BEGIN:VCALENDAR
VERSION:2.0
PRODID:-//Parlijn - ECPv6.15.12.2//NONSGML v1.0//EN
CALSCALE:GREGORIAN
METHOD:PUBLISH
X-ORIGINAL-URL:https://www.parlijn.nl
X-WR-CALDESC:Evenementen voor Parlijn
REFRESH-INTERVAL;VALUE=DURATION:PT1H
X-Robots-Tag:noindex
X-PUBLISHED-TTL:PT1H
BEGIN:VTIMEZONE
TZID:Europe/Amsterdam
BEGIN:DAYLIGHT
TZOFFSETFROM:+0100
TZOFFSETTO:+0200
TZNAME:CEST
DTSTART:20160327T010000
END:DAYLIGHT
BEGIN:STANDARD
TZOFFSETFROM:+0200
TZOFFSETTO:+0100
TZNAME:CET
DTSTART:20161030T010000
END:STANDARD
BEGIN:DAYLIGHT
TZOFFSETFROM:+0100
TZOFFSETTO:+0200
TZNAME:CEST
DTSTART:20170326T010000
END:DAYLIGHT
BEGIN:STANDARD
TZOFFSETFROM:+0200
TZOFFSETTO:+0100
TZNAME:CET
DTSTART:20171029T010000
END:STANDARD
BEGIN:DAYLIGHT
TZOFFSETFROM:+0100
TZOFFSETTO:+0200
TZNAME:CEST
DTSTART:20180325T010000
END:DAYLIGHT
BEGIN:STANDARD
TZOFFSETFROM:+0200
TZOFFSETTO:+0100
TZNAME:CET
DTSTART:20181028T010000
END:STANDARD
END:VTIMEZONE
BEGIN:VEVENT
DTSTART;VALUE=DATE:20170830
DTEND;VALUE=DATE:20170831
DTSTAMP:20260420T061441
CREATED:20170807T130735Z
LAST-MODIFIED:20170807T130746Z
UID:872-1504051200-1504137599@www.parlijn.nl
SUMMARY:Zwemmen (einde zomervakantie)
DESCRIPTION:
URL:https://www.parlijn.nl/event/zwemmen-einde-zomervakantie/
CATEGORIES:(zomervakantie)
END:VEVENT
BEGIN:VEVENT
DTSTART;TZID=Europe/Amsterdam:20170809T150000
DTEND;TZID=Europe/Amsterdam:20170809T170000
DTSTAMP:20260420T061441
CREATED:20170807T130517Z
LAST-MODIFIED:20170809T135654Z
UID:866-1502290800-1502298000@www.parlijn.nl
SUMMARY:Zwemmen
DESCRIPTION:
URL:https://www.parlijn.nl/event/zwemmen/
CATEGORIES:(zomervakantie)
END:VEVENT
END:VCALENDAR