BEGIN:VCALENDAR
VERSION:2.0
PRODID:-//Parlijn - ECPv6.15.12.2//NONSGML v1.0//EN
CALSCALE:GREGORIAN
METHOD:PUBLISH
X-WR-CALNAME:Parlijn
X-ORIGINAL-URL:https://www.parlijn.nl
X-WR-CALDESC:Evenementen voor Parlijn
REFRESH-INTERVAL;VALUE=DURATION:PT1H
X-Robots-Tag:noindex
X-PUBLISHED-TTL:PT1H
BEGIN:VTIMEZONE
TZID:Europe/Amsterdam
BEGIN:DAYLIGHT
TZOFFSETFROM:+0100
TZOFFSETTO:+0200
TZNAME:CEST
DTSTART:20160327T010000
END:DAYLIGHT
BEGIN:STANDARD
TZOFFSETFROM:+0200
TZOFFSETTO:+0100
TZNAME:CET
DTSTART:20161030T010000
END:STANDARD
BEGIN:DAYLIGHT
TZOFFSETFROM:+0100
TZOFFSETTO:+0200
TZNAME:CEST
DTSTART:20170326T010000
END:DAYLIGHT
BEGIN:STANDARD
TZOFFSETFROM:+0200
TZOFFSETTO:+0100
TZNAME:CET
DTSTART:20171029T010000
END:STANDARD
BEGIN:DAYLIGHT
TZOFFSETFROM:+0100
TZOFFSETTO:+0200
TZNAME:CEST
DTSTART:20180325T010000
END:DAYLIGHT
BEGIN:STANDARD
TZOFFSETFROM:+0200
TZOFFSETTO:+0100
TZNAME:CET
DTSTART:20181028T010000
END:STANDARD
END:VTIMEZONE
BEGIN:VEVENT
DTSTART;TZID=Europe/Amsterdam:20171116T080000
DTEND;TZID=Europe/Amsterdam:20171116T170000
DTSTAMP:20260419T192237
CREATED:20170809T134847Z
LAST-MODIFIED:20170809T134847Z
UID:1038-1510819200-1510851600@www.parlijn.nl
SUMMARY:Appelflappen bakken
DESCRIPTION:
URL:https://www.parlijn.nl/event/appelflappen-bakken/
CATEGORIES:Dagbesteding
END:VEVENT
BEGIN:VEVENT
DTSTART;TZID=Europe/Amsterdam:20171115T080000
DTEND;TZID=Europe/Amsterdam:20171115T170000
DTSTAMP:20260419T192237
CREATED:20170809T134818Z
LAST-MODIFIED:20170809T134818Z
UID:1036-1510732800-1510765200@www.parlijn.nl
SUMMARY:Dakpannen versiren met
DESCRIPTION:
URL:https://www.parlijn.nl/event/dakpannen-versiren-met/
CATEGORIES:Dagbesteding
END:VEVENT
BEGIN:VEVENT
DTSTART;TZID=Europe/Amsterdam:20171114T080000
DTEND;TZID=Europe/Amsterdam:20171114T170000
DTSTAMP:20260419T192237
CREATED:20170809T134447Z
LAST-MODIFIED:20170809T135211Z
UID:1034-1510646400-1510678800@www.parlijn.nl
SUMMARY:Raamverven
DESCRIPTION:
URL:https://www.parlijn.nl/event/raamverven/
CATEGORIES:Dagbesteding
END:VEVENT
BEGIN:VEVENT
DTSTART;TZID=Europe/Amsterdam:20171108T080000
DTEND;TZID=Europe/Amsterdam:20171108T170000
DTSTAMP:20260419T192237
CREATED:20170809T134421Z
LAST-MODIFIED:20170809T135616Z
UID:1032-1510128000-1510160400@www.parlijn.nl
SUMMARY:Doppenpoppetjes maken
DESCRIPTION:
URL:https://www.parlijn.nl/event/doppenpoppetjes-maken/
CATEGORIES:Dagbesteding
END:VEVENT
BEGIN:VEVENT
DTSTART;TZID=Europe/Amsterdam:20171101T080000
DTEND;TZID=Europe/Amsterdam:20171101T170000
DTSTAMP:20260419T192237
CREATED:20170809T134328Z
LAST-MODIFIED:20170809T134328Z
UID:1028-1509523200-1509555600@www.parlijn.nl
SUMMARY:Zwemmen
DESCRIPTION:
URL:https://www.parlijn.nl/event/zwemmen-2/
CATEGORIES:Dagbesteding
END:VEVENT
BEGIN:VEVENT
DTSTART;TZID=Europe/Amsterdam:20171025T080000
DTEND;TZID=Europe/Amsterdam:20171025T170000
DTSTAMP:20260419T192237
CREATED:20170809T134349Z
LAST-MODIFIED:20170809T134349Z
UID:1030-1508918400-1508950800@www.parlijn.nl
SUMMARY:Film kijken
DESCRIPTION:
URL:https://www.parlijn.nl/event/film-kijken/
CATEGORIES:Dagbesteding
END:VEVENT
BEGIN:VEVENT
DTSTART;TZID=Europe/Amsterdam:20171018T080000
DTEND;TZID=Europe/Amsterdam:20171018T170000
DTSTAMP:20260419T192237
CREATED:20170809T134312Z
LAST-MODIFIED:20170809T134312Z
UID:1026-1508313600-1508346000@www.parlijn.nl
SUMMARY:Naar de sporthal
DESCRIPTION:
URL:https://www.parlijn.nl/event/naar-de-sporthal/
CATEGORIES:Dagbesteding
END:VEVENT
BEGIN:VEVENT
DTSTART;TZID=Europe/Amsterdam:20171012T080000
DTEND;TZID=Europe/Amsterdam:20171012T170000
DTSTAMP:20260419T192237
CREATED:20170809T134250Z
LAST-MODIFIED:20170809T134250Z
UID:1024-1507795200-1507827600@www.parlijn.nl
SUMMARY:Herfstworkshop
DESCRIPTION:Herfstkrans maken/pompoen
URL:https://www.parlijn.nl/event/herfstworkshop-3/
END:VEVENT
BEGIN:VEVENT
DTSTART;TZID=Europe/Amsterdam:20171011T080000
DTEND;TZID=Europe/Amsterdam:20171011T170000
DTSTAMP:20260419T192237
CREATED:20170809T134224Z
LAST-MODIFIED:20170809T134224Z
UID:1022-1507708800-1507741200@www.parlijn.nl
SUMMARY:Herfstworkshop
DESCRIPTION:Herfstkrans maken/pompoen
URL:https://www.parlijn.nl/event/herfstworkshop-2/
CATEGORIES:Dagbesteding
END:VEVENT
BEGIN:VEVENT
DTSTART;TZID=Europe/Amsterdam:20171010T080000
DTEND;TZID=Europe/Amsterdam:20171010T170000
DTSTAMP:20260419T192237
CREATED:20170809T134117Z
LAST-MODIFIED:20170809T134143Z
UID:1020-1507622400-1507654800@www.parlijn.nl
SUMMARY:Herfstworkshop
DESCRIPTION:Herfstkrans maken/pompoen
URL:https://www.parlijn.nl/event/herfstworkshop/
CATEGORIES:Dagbesteding
END:VEVENT
BEGIN:VEVENT
DTSTART;TZID=Europe/Amsterdam:20171004T080000
DTEND;TZID=Europe/Amsterdam:20171004T170000
DTSTAMP:20260419T192237
CREATED:20170809T134038Z
LAST-MODIFIED:20170809T134038Z
UID:1018-1507104000-1507136400@www.parlijn.nl
SUMMARY:Claudia’s zuivelboerderij
DESCRIPTION:
URL:https://www.parlijn.nl/event/claudias-zuivelboerderij/
END:VEVENT
BEGIN:VEVENT
DTSTART;TZID=Europe/Amsterdam:20170927T080000
DTEND;TZID=Europe/Amsterdam:20170927T170000
DTSTAMP:20260419T192237
CREATED:20170809T134008Z
LAST-MODIFIED:20220815T114109Z
UID:1016-1506499200-1506531600@www.parlijn.nl
SUMMARY:High tea
DESCRIPTION:High tea
URL:https://www.parlijn.nl/event/high-tea/
CATEGORIES:Dagbesteding
END:VEVENT
BEGIN:VEVENT
DTSTART;TZID=Europe/Amsterdam:20170920T080000
DTEND;TZID=Europe/Amsterdam:20170920T170000
DTSTAMP:20260419T192237
CREATED:20170809T133950Z
LAST-MODIFIED:20170809T135334Z
UID:1014-1505894400-1505926800@www.parlijn.nl
SUMMARY:Maïsdoolhof
DESCRIPTION:
URL:https://www.parlijn.nl/event/maisdoolhof/
END:VEVENT
BEGIN:VEVENT
DTSTART;TZID=Europe/Amsterdam:20170914T083000
DTEND;TZID=Europe/Amsterdam:20170914T180000
DTSTAMP:20260419T192237
CREATED:20170623T060935Z
LAST-MODIFIED:20170807T134334Z
UID:654-1505377800-1505412000@www.parlijn.nl
SUMMARY:Keien schilderen
DESCRIPTION:
URL:https://www.parlijn.nl/event/activiteit-1/
LOCATION:’t Wulsloo\, Kerkstraat 41\, Eibergen\, Gelderland\, 7151 BV\, Nederland
CATEGORIES:Dagbesteding
ORGANIZER;CN="Anno Niem":MAILTO:anno@parlijn.nl
END:VEVENT
BEGIN:VEVENT
DTSTART;TZID=Europe/Amsterdam:20170913T080000
DTEND;TZID=Europe/Amsterdam:20170913T170000
DTSTAMP:20260419T192237
CREATED:20170809T135846Z
LAST-MODIFIED:20170809T135929Z
UID:1046-1505289600-1505322000@www.parlijn.nl
SUMMARY:Keien schilderen
DESCRIPTION:
URL:https://www.parlijn.nl/event/keien-schilderen-2/
CATEGORIES:Dagbesteding
END:VEVENT
BEGIN:VEVENT
DTSTART;TZID=Europe/Amsterdam:20170912T080000
DTEND;TZID=Europe/Amsterdam:20170912T170000
DTSTAMP:20260419T192237
CREATED:20170807T130954Z
LAST-MODIFIED:20170807T130954Z
UID:876-1505203200-1505235600@www.parlijn.nl
SUMMARY:Keien schilderen
DESCRIPTION:
URL:https://www.parlijn.nl/event/keien-schilderen/
LOCATION:’t Wulsloo\, Kerkstraat 41\, Eibergen\, Gelderland\, 7151 BV\, Nederland
CATEGORIES:Dagbesteding
ORGANIZER;CN="Anno Niem":MAILTO:anno@parlijn.nl
END:VEVENT
BEGIN:VEVENT
DTSTART;VALUE=DATE:20170906
DTEND;VALUE=DATE:20170907
DTSTAMP:20260419T192237
CREATED:20170807T130851Z
LAST-MODIFIED:20170807T130851Z
UID:874-1504656000-1504742399@www.parlijn.nl
SUMMARY:Boswandeling
DESCRIPTION:
URL:https://www.parlijn.nl/event/boswandeling/
CATEGORIES:Dagbesteding
END:VEVENT
BEGIN:VEVENT
DTSTART;VALUE=DATE:20170830
DTEND;VALUE=DATE:20170831
DTSTAMP:20260419T192237
CREATED:20170807T130735Z
LAST-MODIFIED:20170807T130746Z
UID:872-1504051200-1504137599@www.parlijn.nl
SUMMARY:Zwemmen (einde zomervakantie)
DESCRIPTION:
URL:https://www.parlijn.nl/event/zwemmen-einde-zomervakantie/
CATEGORIES:(zomervakantie)
END:VEVENT
BEGIN:VEVENT
DTSTART;VALUE=DATE:20170823
DTEND;VALUE=DATE:20170824
DTSTAMP:20260419T192237
CREATED:20170807T130656Z
LAST-MODIFIED:20170807T130656Z
UID:870-1503446400-1503532799@www.parlijn.nl
SUMMARY:Sponzenvolleybal
DESCRIPTION:
URL:https://www.parlijn.nl/event/sponzenvolleybal/
CATEGORIES:Dagbesteding
END:VEVENT
BEGIN:VEVENT
DTSTART;TZID=Europe/Amsterdam:20170816T150000
DTEND;TZID=Europe/Amsterdam:20170816T190000
DTSTAMP:20260419T192237
CREATED:20170807T130600Z
LAST-MODIFIED:20170807T130600Z
UID:868-1502895600-1502910000@www.parlijn.nl
SUMMARY:Goochelshow van Tom
DESCRIPTION:
URL:https://www.parlijn.nl/event/goochelshow-van-tom/
CATEGORIES:Dagbesteding
END:VEVENT
BEGIN:VEVENT
DTSTART;TZID=Europe/Amsterdam:20170809T150000
DTEND;TZID=Europe/Amsterdam:20170809T170000
DTSTAMP:20260419T192237
CREATED:20170807T130517Z
LAST-MODIFIED:20170809T135654Z
UID:866-1502290800-1502298000@www.parlijn.nl
SUMMARY:Zwemmen
DESCRIPTION:
URL:https://www.parlijn.nl/event/zwemmen/
CATEGORIES:(zomervakantie)
END:VEVENT
END:VCALENDAR